BEGIN:VCALENDAR
VERSION:2.0
PRODID:-//Vert Soleil - ECPv6.9.0//NONSGML v1.0//EN
CALSCALE:GREGORIAN
METHOD:PUBLISH
X-WR-CALNAME:Vert Soleil
X-ORIGINAL-URL:https://vertsoleil.fr
X-WR-CALDESC:Évènements pour Vert Soleil
REFRESH-INTERVAL;VALUE=DURATION:PT1H
X-Robots-Tag:noindex
X-PUBLISHED-TTL:PT1H
BEGIN:VTIMEZONE
TZID:Europe/Paris
BEGIN:DAYLIGHT
TZOFFSETFROM:+0100
TZOFFSETTO:+0200
TZNAME:CEST
DTSTART:20250330T010000
END:DAYLIGHT
BEGIN:STANDARD
TZOFFSETFROM:+0200
TZOFFSETTO:+0100
TZNAME:CET
DTSTART:20251026T010000
END:STANDARD
END:VTIMEZONE
BEGIN:VEVENT
DTSTART;TZID=Europe/Paris:20250310T183000
DTEND;TZID=Europe/Paris:20250310T200000
DTSTAMP:20260419T171144
CREATED:20240304T103134Z
LAST-MODIFIED:20250203T132822Z
UID:6326-1741631400-1741636800@vertsoleil.fr
SUMMARY:Atelier Stress et Intuition
DESCRIPTION:Mieux comprendre et gérer son stress  : Faire de son système nerveux un allié pour développer son intuition et sa capacité à être présent\nAu programme de cet atelier d’1h30 :\n👉 Expérience respiration\n👉 Présentation du système nerveux / stress\n👉 Le lien entre système nerveux et intuition\n\n👉 Développer sa capacité à être présent \nCe avec quoi vous repartirez : \n\n\nUne meilleure compréhension de votre stress\nDes outils pratiques pour le gérer au mieux\nDes pistes pour explorer l’intuition et revenir au présent\n\nLe nombre de places est limité pour favoriser les interactions (merci de prévoir d’allumer votre caméra\, ainsi qu’un petit carnet et une boisson chaude). \nUn replay sera disponible et envoyé aux personnes inscrites.
URL:https://vertsoleil.fr/evenement/atelier-stress-intuition/
LOCATION:En ligne (Zoom)
CATEGORIES:Atelier
ATTACH;FMTTYPE=image/png:https://vertsoleil.fr/wp-content/uploads/2023/11/Atelier-meditation-1.png
END:VEVENT
END:VCALENDAR